BEGIN:VCALENDAR
VERSION:2.0
PRODID:Events Booking
BEGIN:VEVENT
UID:69e4ff98ded09
SUMMARY:2017 AMEF Team Registration
DESCRIPTION:Alpha Memphis Education Foundation serves hundreds of youth ann
 ually through a range of programs.&nbsp\; The Memorial Golf Tournament is 
 the primary fundraiser for the foundation's activities. Proceeds benefit t
 he programs of Alpha Memphis Education Foundation including:
 
 
 	Goto
  HIgh School\, Goto College
 
 
 Goto HIgh School\, Goto College concen
 trates on the importance of completing secondary and collegiate education 
 as a road to advancement. Statistics prove the value of this extra impetus
  in making the difference in the success of young African-American men\, g
 iven that school completion is the single best predictor of future economi
 c success. Through the Go-to-High-School\, Go-to-College educational initi
 ative\, young men receive information and learn strategies that facilitate
  success.&nbsp\;
 
 
 	Project Alpha
 
 
 Project Alpha&nbsp\;is des
 igned to provide education\, motivation and skill-building on issues of re
 sponsibility\, relationships\, teen pregnancy and sexually transmitted dis
 eases for young males ages 12-15 years. Designed to provide young men with
  current and accurate information about teen pregnancy prevention\, Projec
 t Alpha consists of a series of workshops and informational sessions condu
 cted by community leaders
 
 
 	Leadership Development Institute
 
 
 
 The Leadership Development Institute (LDI) aims to develop a 21st centur
 y generation of leaders. This mission starts with young people\, particula
 rly those who demonstrate the potential to comprehend and apply the fundam
 ental principles needed by leaders as well as whom\, by virtue of their ag
 e and education\, are often looked upon as role models. Thus\, the Institu
 te\, which is implemented in five regions\, seeks to equip high school stu
 dents\, primarily sophomores to seniors\, with vital leadership skills. To
  this end\, our members who organize and facilitate the regional LDIs\, wo
 rking along with other professionals/experts\, instruct the participants i
 n parliamentary procedures\, conflict resolution\, models of leadership\, 
 public speaking\, community and civic engagement\, and educational enhance
 ment skills.
 
 The 2017 tournament will take place on Saturday\, June 3
 \, 2017 at Stone Bridge Golf Course in Lakeland\, TN. &nbsp\;The event wil
 l begin at 8am. Sign up to become a sponsor for this year's tournament.&nb
 sp\;
 
LOCATION:3205 Clubview Cove N\, Lakeland\, TN 38002\, USA
DTSTART:20170603T130000Z
DTEND:20170603T180000Z
DTSTAMP:20260419T121520Z
ORGANIZER;CN=Alpha Memphis Education Foundation:MAILTO:info@alphamef.org
GEO:35.213159;-89.747481
X-APPLE-STRUCTURED-LOCATION;VALUE=URI;X-ADDRESS=3205 Clubview Cove N\, Lake
 land\, TN 38002\, USA;X-APPLE-RADIUS=72;X-TITLE=Stonebridge Golf Club:35.2
 13159;-89.747481
END:VEVENT
END:VCALENDAR