BEGIN:VCALENDAR
VERSION:2.0
PRODID:Events Booking
BEGIN:VEVENT
UID:69e5258aeedf1
SUMMARY:2019 Black and Gold Gala
DESCRIPTION:2019 Black and Gold Gala -&nbsp\;\"An A-1 Deluxe Experience\"

  
 Since its founding\, the Alpha Memphis Education Foundation\, Inc. (AM
 EF) has been on the forefront of serving those who are in need\, especiall
 y our children. Through our mission and programs\, we aim to communicate\,
  to as many youths as possible\, the importance of a good education.
 
 
 
 On Saturday\, January 19\, 2019\, we will host the Black and Gold Gala\
 , an A-1 Deluxe Experience at 409 South Main\, located in Downtown Memphis
 . Complimentary valet services will be provided. This is our signature\, f
 ormal event where all proceeds will be used to fund the scholarships and p
 rograms of AMEF.&nbsp\;
 &nbsp\;
 
 
 This is our signature\, formal e
 vent in where all funds are contributed to our scholarship fund. We look f
 orward to continuing this outstanding tradition this year\, as the Foundat
 ion continues its work in serving the community\, providing hope\, and ass
 isting those in need. We humbly request that you support this year’s eve
 nt through one of the levels of sponsorship included herein. Through your 
 generous tax-deductible donation\, the Alpha Memphis Education Foundation 
 will continue to meet its’ social responsibility and fulfill its mission
  by providing college tuition assistance via scholarships to several deser
 ving students.
 
LOCATION:409 South Main
DTSTART:20190120T010000Z
DTEND:20190120T050000Z
DTSTAMP:20260419T145714Z
ORGANIZER;CN=Alpha Memphis Education Foundation:MAILTO:info@alphamef.org
GEO:35.135462;-90.05856
X-APPLE-STRUCTURED-LOCATION;VALUE=URI;X-ADDRESS=409 South Main;X-APPLE-RADI
 US=72;X-TITLE=409 South Main:35.135462;-90.05856
END:VEVENT
END:VCALENDAR