BEGIN:VCALENDAR
VERSION:2.0
PRODID:Events Booking
BEGIN:VEVENT
UID:69e50fecf22e3
SUMMARY:2023 Black and Gold Gala
DESCRIPTION:2023 Black and Gold Gala -&nbsp\;\"An A-1 Deluxe Experience\"

  &nbsp\;
 Since its founding\, the Alpha Memphis Education Foundation\, I
 nc. (AMEF) has been on the forefront of serving those who are in need\, es
 pecially our children. Through our mission and programs\, we aim to commun
 icate\, to as many youths as possible\, the importance of a good education
 .
 &nbsp\;
 
 On Saturday\, June 3\, 2023\, we will host the Black and 
 Gold Gala\, an A-1 Deluxe Experience at the Children's Museum of Memphis&n
 bsp\;2525 Central Ave\, Memphis\, TN 38104. This is our signature\, formal
  event where all proceeds will be used to fund the scholarships and progra
 ms of AMEF.&nbsp\;
 &nbsp\;
 
 
 We look forward to continuing this ou
 tstanding tradition\, as the Foundation continues its work in serving the 
 community\, providing hope\, and assisting those in need. We humbly reques
 t that you support our event through one of the levels of sponsorship incl
 uded herein. Through your generous tax-deductible donation\, the Alpha Mem
 phis Education Foundation will continue to meet its’ social responsibili
 ty and fulfill its mission by providing college tuition assistance via sch
 olarships to several deserving students.
 
LOCATION:2525 Central Ave\, Memphis\, TN 38104\, USA
DTSTART:20230604T000000Z
DTEND:20230604T040000Z
DTSTAMP:20260419T132500Z
ORGANIZER;CN=Alpha Memphis Education Foundation:MAILTO:info@alphamef.org
GEO:35.124923;-89.976667
X-APPLE-STRUCTURED-LOCATION;VALUE=URI;X-ADDRESS=2525 Central Ave\, Memphis\
 , TN 38104\, USA;X-APPLE-RADIUS=72;X-TITLE=Children's Museum of Memphis:35
 .124923;-89.976667
END:VEVENT
END:VCALENDAR