BEGIN:VCALENDAR
VERSION:2.0
PRODID:Events Booking
BEGIN:VEVENT
UID:69e4d9e349619
SUMMARY:Arts & Culture Auxiliary (AMEF)
DESCRIPTION:Please attend the AMEF meeting | Saturday\, 5/11/2019 @ 9am....
  as we will formally make&nbsp\;a motion to obtain an AΦA Umbrella licens
 e... remember the following below:
 &nbsp\;
 Breakfast will be served!

  &nbsp\;
 
 An Umbrella License to produce such articles will be issued 
 to AMEF Fundraising Committee and governed\, in part\, by An Arts & Cultur
 e Auxiliary/Committee formed under the Fundraising Committee.&nbsp\;
 &nb
 sp\;
 If you agree to be apart of this effort\, You\, among other brother
 s will help govern the use of these fraternity symbols in addition to the 
 following:
 
 
 Agree to all terms and conditions for this effort
 Sel
 l items at a profit while selling items for charity
 Develop Arts & Cultu
 ral programming at the Facility
 Execute Fundraising events around arts\,
  crafts\, etc.
 No circumventing the established process. (no selling awa
 y).
 Help build the morale of the Chapter and Community at Large.
 Have 
 Fun!
 
 
DTSTART:20190511T140000Z
DTEND:20190511T160000Z
DTSTAMP:20260419T093427Z
ORGANIZER;CN=Alpha Memphis Education Foundation:MAILTO:info@alphamef.org
END:VEVENT
END:VCALENDAR