BEGIN:VCALENDAR
VERSION:2.0
PRODID:Events Booking
BEGIN:VEVENT
UID:69e5002b83d94
SUMMARY:Black Male Youth Conference 2023
DESCRIPTION:On November 8\, 2023 at the Alpha Memphis Education Foundation 
 Facility\, the Go To High School Go To College Committee of Alpha Delta La
 mbda Chapter of Alpha Phi Alpha Fraternity Incorporated put on a conferenc
 e with the theme being\, \"The Black Male\; Is it Too Late?\" Topics that 
 were presented through speakers dealt with Community Policing\, TN Achieve
 s/Promise Scholarship\, Tips to be Successful as a Black Male today\, and 
 Financial Literacy 101. We had around 100 High school males representing R
 aleigh Egypt High\, Trezevant High\, City University\, Fairley High\, and 
 Power Center Academy High. All sessions ended with Q and A. as well as in 
 the end a survey they had to fill out for feedback as well as gift card gi
 veaways. News Channel 5 came and will run the story on Sunday. Overall the
  event was a great success and the students and chaperones were elated tha
 t they were invited.
 &nbsp\;
 Alpha Phi Alpha (Alpha Delta Lambda) G2HS
 G2C-Youth Conference 2023: “The Black Male: Is It Too Late?”
 9:00-9:
 30 Student Check-In/WelcomeBro. Dr. Parker-Chairperson G2HSG2C
 9:30-9:45
  College Brothers Reflections Projects Chairs/Special Projects Chairs
 9:
 45-10:15 Presentation: “Community Policing” Bro. Mitchell-MPD Officers
 
 10:15-10:30 Presentation: “Tn Achieves Opportunities” Ms. Jessica G
 ist-TN Achieves
 10:30-11:00 Presentation: Project Alpha: Fostering Healt
 hy Relationships Between Males/Females Bro. Rudy Gray
 11:00-11:45 LUNCH/
 BREAK
 11:45-12:00 Presentation: “My Story” Jason West and team from 
 Republic Services
 12:00-12:45 Financial Literacy 101: Bro. Lorenzo Herma
 n
 12:45-1:15 Closing/Giveaways/Surveys/Return to BusesBro. Dr. Parker- C
 hairperson G2HSG2C
DTSTART:20231104T140000Z
DTEND:20231104T180000Z
DTSTAMP:20260419T121747Z
ORGANIZER;CN=Alpha Memphis Education Foundation:MAILTO:info@alphamef.org
END:VEVENT
END:VCALENDAR