BEGIN:VCALENDAR
VERSION:2.0
PRODID:Events Booking
BEGIN:VEVENT
UID:69e514273738d
SUMMARY:Dr. Martin Luther King Black and Gold Scholarship Gala 2018
DESCRIPTION:Since its founding\, the Alpha Memphis Education Foundation\, I
 nc. (AMEF) has been on the forefront of serving those who are in need\, es
 pecially our children. Through our mission and programs\, we aim to commun
 icate\, to as many youths as possible\, the importance of a good education
 . On Saturday\, January 13\, 2018\, we will host the Martin Luther King Jr
 . Black and Gold Scholarship Gala at the Esplanade Banquet and Conference 
 Center\, located in Cordova. This is our signature\, formal event in where
  all funds are contributed to our scholarship fund. We look forward to con
 tinuing this outstanding tradition this year\, as the Foundation continues
  its work in serving the community\, providing hope\, and assisting those 
 in need. We humbly request that you support this year’s event through on
 e of the levels of sponsorships included herein. Through your generous tax
 -deductible donation\, the Alpha Memphis Education Foundation will continu
 e to meet its’ social responsibility and fulfill its mission by providin
 g college tuition assistance via scholarships to several deserving
LOCATION:901 Cordova Station Ave\, Cordova\, TN 38018\, USA
DTSTART:20180114T010000Z
DTEND:20180114T050000Z
DTSTAMP:20260419T134303Z
ORGANIZER;CN=Alpha Memphis Education Foundation:MAILTO:info@alphamef.org
GEO:35.151852;-89.793477
X-APPLE-STRUCTURED-LOCATION;VALUE=URI;X-ADDRESS=901 Cordova Station Ave\, C
 ordova\, TN 38018\, USA;X-APPLE-RADIUS=72;X-TITLE=Esplanade Ballroom:35.15
 1852;-89.793477
END:VEVENT
END:VCALENDAR