BEGIN:VCALENDAR
VERSION:2.0
PRODID:Events Booking
BEGIN:VEVENT
UID:69e4ec439d887
SUMMARY:Headshots 2018 - Private Studio
DESCRIPTION:
LOCATION:740 East Brookhaven Circle
DTSTART:20180831T140000Z
DTEND:20180928T220000Z
DTSTAMP:20260419T105251Z
ORGANIZER;CN=Alpha Memphis Education Foundation:MAILTO:info@alphamef.org
GEO:35.113468;-89.889163
X-APPLE-STRUCTURED-LOCATION;VALUE=URI;X-ADDRESS=740 East Brookhaven Circle;
 X-APPLE-RADIUS=72;X-TITLE=Contempo Studios:35.113468;-89.889163
END:VEVENT
END:VCALENDAR