BEGIN:VCALENDAR
VERSION:2.0
PRODID:Events Booking
BEGIN:VEVENT
UID:69e4ecb653d9b
SUMMARY:Headshots 2019 - Private Studio
DESCRIPTION:Update your Headshot! Register for your Headshot during our 201
 9 Open Session at Bro Wiley Brown Studio located at 740 Brookhaven Circle 
 East Suite 2\, Memphis\, TN 38117 (Call Bro Brown to schedule after paying
  @ (901) 212-9993. Black jacket\, white shirt and gold neck-tie required. 
 Cost is only $5 for the headshot. All proceeds go to Alpha Memphis Educati
 on Foundation.&nbsp\;If you want a complete Business photo session - cost 
 is an additional $15.
LOCATION:740 East Brookhaven Circle
DTSTART:20191231T150000Z
DTEND:20191231T230000Z
DTSTAMP:20260419T105446Z
ORGANIZER;CN=Alpha Memphis Education Foundation:MAILTO:info@alphamef.org
GEO:35.113468;-89.889163
X-APPLE-STRUCTURED-LOCATION;VALUE=URI;X-ADDRESS=740 East Brookhaven Circle;
 X-APPLE-RADIUS=72;X-TITLE=Contempo Studios:35.113468;-89.889163
END:VEVENT
END:VCALENDAR