BEGIN:VCALENDAR
VERSION:2.0
PRODID:Events Booking
BEGIN:VEVENT
UID:69e5343e9d7f8
SUMMARY:Ivy-Ice
DESCRIPTION:Join us for Ivy & Ice as the Men of the Black & Old Gold&nbsp\;
 &nbsp\;are turning the House Lights Pink & Green&nbsp\;&nbsp\;while presen
 ting a County Proclamation for choosing Memphis. This Party will be like n
 o other! Hope to see you there!
 
LOCATION:4122 Barton Drive Memphis TN 38116
DTSTART:20220306T030000Z
DTEND:20220306T070000Z
DTSTAMP:20220127T015958Z
ORGANIZER;CN=Alpha Memphis Education Foundation:MAILTO:info@alphamef.org
GEO:35.036319;-90.021936
X-APPLE-STRUCTURED-LOCATION;VALUE=URI;X-ADDRESS=4122 Barton Drive Memphis T
 N 38116;X-APPLE-RADIUS=72;X-TITLE=AMEF - 4122 Barton:35.036319;-90.021936
END:VEVENT
END:VCALENDAR