BEGIN:VCALENDAR
VERSION:2.0
PRODID:Events Booking
BEGIN:VEVENT
UID:69e5001ea5cfa
SUMMARY:Money Talks - Financial Seminar
DESCRIPTION:
LOCATION:4122 Barton Drive Memphis TN 38116
DTSTART:20180804T160000Z
DTEND:20180804T180000Z
DTSTAMP:20260419T121734Z
ORGANIZER;CN=Alpha Memphis Education Foundation:MAILTO:info@alphamef.org
GEO:35.036319;-90.021936
X-APPLE-STRUCTURED-LOCATION;VALUE=URI;X-ADDRESS=4122 Barton Drive Memphis T
 N 38116;X-APPLE-RADIUS=72;X-TITLE=AMEF - 4122 Barton:35.036319;-90.021936
END:VEVENT
END:VCALENDAR