BEGIN:VCALENDAR
VERSION:2.0
PRODID:Events Booking
BEGIN:VEVENT
UID:69e50fdc966c4
SUMMARY:Summer Soulstice - Day Party
DESCRIPTION:Come cool out with the Brothers of Alpha Phi Alpha Fraternity\,
  Inc. - Alpha Delta Lambda Chapter in support of the Alpha Memphis Educati
 on Foundation. Inc. for their \"Summer Soulstice\" Day Party. Admission is
  $20.00 for this hot summer event\, where there will be music\, food\, and
  fun as we move towards the end of summer and into the annual Southern Her
 itage Classic Season.
 So\, come out with your cigars\, sundresses\, and 
 fidoras for this epic afternoon. It will be the precursor and trend setter
  for monthly events hosted by the Brotherhood in support of the Alpha Memp
 his Education Foundation\, Inc.
 See you there.
LOCATION:4122 Barton Drive Memphis TN 38116
DTSTART:20230819T180000Z
DTEND:20230819T230000Z
DTSTAMP:20230728T190709Z
ORGANIZER;CN=Alpha Memphis Education Foundation:MAILTO:info@alphamef.org
GEO:35.036319;-90.021936
X-APPLE-STRUCTURED-LOCATION;VALUE=URI;X-ADDRESS=4122 Barton Drive Memphis T
 N 38116;X-APPLE-RADIUS=72;X-TITLE=AMEF - 4122 Barton:35.036319;-90.021936
END:VEVENT
END:VCALENDAR