BEGIN:VCALENDAR
VERSION:2.0
PRODID:Events Booking
BEGIN:VEVENT
UID:69e51035b5769
SUMMARY:Sunday Night Football
DESCRIPTION:Join us for an exciting Sunday Night Football event! Enjoy a va
 riety of delicious options from local food trucks and unwind with drinks f
 rom our cash bar. It's the perfect way to spend your evening with friends 
 and family. Plus\, your presence can make a difference—consider making a
  donation to support our cause. We can't wait to see you there!
 Donate h
 ere:&nbsp\;https://www.alphamef.org/donate/social-donations
DTSTART:20241006T233000Z
DTEND:20241007T040000Z
DTSTAMP:20260419T132613Z
ORGANIZER;CN=Alpha Memphis Education Foundation:MAILTO:info@alphamef.org
END:VEVENT
END:VCALENDAR