BEGIN:VCALENDAR
VERSION:2.0
PRODID:Events Booking
BEGIN:VEVENT
UID:69e5006790e18
SUMMARY:The MLK Black & Gold Scholarship Gala
DESCRIPTION:Since its founding\, the Alpha Memphis Education Foundation\, I
 nc. (AMEF) has been on the forefront of serving those who are in need\, es
 pecially our children. Through our mission and programs\, we aim to commun
 icate\, to as many youths as possible\, the importance of a good education
 .
 
 On Saturday\, January 14\, 2017\, we will host the Black and Gold G
 ala at the Teton Trek\, located inside of the Memphis Zoo. It is a signatu
 re\, formal event in the greater metropolitan Memphis area. Like in years 
 past\, we look forward to continuing this outstanding tradition this year\
 , as the Foundation continues its work in serving the community\, providin
 g hope\, and assisting those in need.
 
 With your attendance\, the Alph
 a Memphis Education Foundation will continue to meet its’ social respons
 ibility and fulfill its mission by providing college tuition assistance vi
 a scholarships to several deserving students in the Memphis area.
 
DTSTART:20170115T000000Z
DTEND:20170115T030000Z
DTSTAMP:20260419T121847Z
ORGANIZER;CN=Alpha Memphis Education Foundation:MAILTO:info@alphamef.org
END:VEVENT
END:VCALENDAR