BEGIN:VCALENDAR
VERSION:2.0
PRODID:Events Booking
BEGIN:VEVENT
UID:69e5107d296dc
SUMMARY:The Musical Voices of Alpha
DESCRIPTION:
DTSTART:20181105T000000Z
DTEND:20181105T030000Z
DTSTAMP:20260419T132725Z
ORGANIZER;CN=Alpha Memphis Education Foundation:MAILTO:info@alphamef.org
END:VEVENT
END:VCALENDAR