BEGIN:VCALENDAR
VERSION:2.0
PRODID:Events Booking
BEGIN:VEVENT
UID:69e50f9ad764a
SUMMARY:Valentine's Paint & Sip
DESCRIPTION:\"Join us for a delightful evening at the \"Valentine's Paint &
  Sip\" event!\"
 Celebrate love and creativity with us at the Alpha Memph
 is Education Foundation\, located at 4122 Barton Dr\, Memphis\, TN 38116. 
 Enjoy an evening filled with painting\, wine\, heavy hors d'oeuvres\, and 
 special gifts.
 All proceeds from this event will benefit the Foundation 
 Scholarship Fund\, helping to support education in our community.
 Don't 
 miss out on this wonderful opportunity to create beautiful memories and su
 pport a great cause. See you there! ?✨
LOCATION:4122 Barton Drive Memphis TN 38116
DTSTART:20250215T010000Z
DTEND:20250215T050000Z
DTSTAMP:20230728T190709Z
ORGANIZER;CN=Alpha Memphis Education Foundation:MAILTO:info@alphamef.org
GEO:35.036319;-90.021936
X-APPLE-STRUCTURED-LOCATION;VALUE=URI;X-ADDRESS=4122 Barton Drive Memphis T
 N 38116;X-APPLE-RADIUS=72;X-TITLE=AMEF - 4122 Barton:35.036319;-90.021936
END:VEVENT
END:VCALENDAR