BEGIN:VCALENDAR
VERSION:2.0
PRODID:Events Booking
BEGIN:VEVENT
UID:69e4ffeda99b0
SUMMARY:Youth Leadership Think Tank
DESCRIPTION:You are cordially invited to our \"Youth Leadership Think Tank\
 " on Thursday\, March 28th\, 2024 from 6pm to 9pm. This event will be held
  at the AMEF Facility (4122 Barton Dr). Food will be provided as Author Ro
 bert Lowe\, out of Orlando\, Florida\, gives personal insight on how to re
 ach our Youths by “Finding Your Story and Learning How to Leverage It”
 . Mr. Lowe will also give away copies of his book (SO WHAT? KEEP GOING!) t
 o the first 100 attendees.
 You will be among other City Officials\, Comm
 unity Partners\, School and Church Leaders\, and more. It will be a great 
 opportunity to network and trade ideas that will inspire local programs an
 d other youth activities.
 More details to come…
LOCATION:4122 Barton Drive Memphis TN 38116
DTSTART:20240328T230000Z
DTEND:20240329T020000Z
DTSTAMP:20260419T121645Z
ORGANIZER;CN=Alpha Memphis Education Foundation:MAILTO:info@alphamef.org
GEO:35.036319;-90.021936
X-APPLE-STRUCTURED-LOCATION;VALUE=URI;X-ADDRESS=4122 Barton Drive Memphis T
 N 38116;X-APPLE-RADIUS=72;X-TITLE=AMEF - 4122 Barton:35.036319;-90.021936
END:VEVENT
END:VCALENDAR